BEGIN:VCALENDAR
VERSION:2.0
PRODID:-//KatS-Pyrotechnik - ECPv6.15.20//NONSGML v1.0//EN
CALSCALE:GREGORIAN
METHOD:PUBLISH
X-ORIGINAL-URL:https://www.kats-pyrotechnik.de
X-WR-CALDESC:Veranstaltungen für KatS-Pyrotechnik
REFRESH-INTERVAL;VALUE=DURATION:PT1H
X-Robots-Tag:noindex
X-PUBLISHED-TTL:PT1H
BEGIN:VTIMEZONE
TZID:Europe/Berlin
BEGIN:DAYLIGHT
TZOFFSETFROM:+0100
TZOFFSETTO:+0200
TZNAME:CEST
DTSTART:20250330T010000
END:DAYLIGHT
BEGIN:STANDARD
TZOFFSETFROM:+0200
TZOFFSETTO:+0100
TZNAME:CET
DTSTART:20251026T010000
END:STANDARD
BEGIN:DAYLIGHT
TZOFFSETFROM:+0100
TZOFFSETTO:+0200
TZNAME:CEST
DTSTART:20260329T010000
END:DAYLIGHT
BEGIN:STANDARD
TZOFFSETFROM:+0200
TZOFFSETTO:+0100
TZNAME:CET
DTSTART:20261025T010000
END:STANDARD
BEGIN:DAYLIGHT
TZOFFSETFROM:+0100
TZOFFSETTO:+0200
TZNAME:CEST
DTSTART:20270328T010000
END:DAYLIGHT
BEGIN:STANDARD
TZOFFSETFROM:+0200
TZOFFSETTO:+0100
TZNAME:CET
DTSTART:20271031T010000
END:STANDARD
END:VTIMEZONE
BEGIN:VEVENT
DTSTART;VALUE=DATE:20260420
DTEND;VALUE=DATE:20260423
DTSTAMP:20260422T135848
CREATED:20251114T083044Z
LAST-MODIFIED:20251114T083105Z
UID:911-1776643200-1776902399@www.kats-pyrotechnik.de
SUMMARY:Behördenlehrgang Pyrotechnik
DESCRIPTION:Pyrotechnik\nPraxisseminar: Pyrotechnische Gegenstände und Sätze aller Kategorien\nTeilnehmer: Neues Personal in Gewerbeaufsichtsämtern / Bezirksregierungen / … \nTheorie: \n\nErkennen von zulässigen / unzulässigen Feuerwerkskörpern\nWas gibt es für Lehrgänge und wofür stehen die Angaben\nbei „wieviel Befähigungsschein“ gibt es noch unzulässige Feuerwerkskörper\nSicherung / Beschlagnahme und was dann?\nWas gibt es sonst noch für Behörden im Bereich der explosionsgefährlichen Stoffe\n\nPraxis schauen: \n\nGrundlagenbeurteilung von pyrotechnischen Gegenständen und allen Produkten im Bereich der Pyrotechnik an echten Stücken\nVerpackung\, Transport und Lagerung\nBeurteilung von Stücken die dem WaffenG oder dem SprengG unterliegen\nErkennen von zulässigen / unzulässigen pyrotechnischen Gegenständen\n\nPraxis erleben: Zünden von verschiedenen Pyrotechnischen Gegenständen aller Kategorien \n„Nur wer Dinge echt gesehen hat wie Sie wirken\, kann die Gefahr auch einschätzen.“ \nPreis: 1.000\,00 € zzgl. MwSt. (incl. Verpflegung 1x Mittag / 1 x Kaffee\, Lehrmaterial\, Teilnahmebescheinigung) \nTermin: siehe LEHRGANGS – KALENDER \nDieser Lehrgang findet draussen und in Bunkern statt. Die Unbedenklichkeit der Teilnehmer ist durch die entsendende Dienststelle sicherzustellen. \nDauer: 3 Tage (1. & 2 Tag: Theorie & Praxis schauen / 2. & 3. Tag Praxis spüren) \nTeilnehmerzahl: 4-10 Personen
URL:https://www.kats-pyrotechnik.de/lehrgang/behoerdenlehrgang-boellern-2/
LOCATION:Nienburg\, 31582
END:VEVENT
END:VCALENDAR